BEGIN:VCALENDAR
VERSION:2.0
PRODID:-//Plone.org//NONSGML plone.app.event//EN
X-WR-TIMEZONE:Europe/Vienna
BEGIN:VEVENT
SUMMARY:Call HRSM Bereich Forschung | Entwicklung und Erschließung der K
 ünste
DTSTART;VALUE=DATE:20160704
DTEND;VALUE=DATE:20160705
DTSTAMP:20260424T064123Z
UID:5d12fba8473e84f70af21f0642ecbc47@www.akbild.ac.at
CREATED:20220312T104442Z
DESCRIPTION:Die HRSM Ausschreibung für den Bereich Forschung | Entwicklun
 g und Erschließung der Künste hat zwei Schwerpunkte: Verbesserung der F&
 amp\;E Infrastruktur-Ausstattung und Unterstützung exzellenzfördender un
 d strukturentwickelnder Kooperationsprojekte im Bereich Forschung insbeson
 dere im Bereich EEK.
LAST-MODIFIED:20240802T102027Z
URL:https://www.akbild.ac.at/de/forschung/kunst-forschung-service/ausschre
 ibungen-wettbewerbe/2016/call-hrsm-bereiche-forschung-entwicklung-und-ersc
 hliessung-der-kuenste/SubEvent
END:VEVENT
END:VCALENDAR
