BEGIN:VCALENDAR
VERSION:2.0
PRODID:-//Plone.org//NONSGML plone.app.event//EN
X-WR-TIMEZONE:Europe/Vienna
BEGIN:VEVENT
SUMMARY:Call for Papers| Graduiertenkonferenz 2018
DTSTART;VALUE=DATE:20180427
DTEND;VALUE=DATE:20180428
DTSTAMP:20260423T114329Z
UID:e1af3d7f48db3c1ec8345433083677d5@www.akbild.ac.at
CREATED:20220312T105555Z
DESCRIPTION:Am\n \n  28.5.2018\n \n findet die\n \n  Graduiertenkonferenz\
 n \n \n  2018\n \n der Akademie der bildenden Künste Wien statt.
LAST-MODIFIED:20240802T102039Z
URL:https://www.akbild.ac.at/de/forschung/kunst-forschung-service/ausschre
 ibungen-wettbewerbe/2018/call-for-papers-graduiertenkonferenz-2018/SubEven
 t
END:VEVENT
END:VCALENDAR
