BEGIN:VCALENDAR
VERSION:2.0
PRODID:-//Plone.org//NONSGML plone.app.event//EN
X-WR-TIMEZONE:Europe/Vienna
BEGIN:VEVENT
SUMMARY:AK Wissenschaftspreis 2019
DTSTART;VALUE=DATE:20190628
DTEND;VALUE=DATE:20190629
DTSTAMP:20260426T003219Z
UID:8167a9dcfa23b643e8b76bc861935574@www.akbild.ac.at
CREATED:20220312T105902Z
DESCRIPTION:Die Arbeiterkammer Oberösterreich schreibt für das Jahr 20
 19 zum 36. Mal den  AK-Wissenschaftspreis aus.
LAST-MODIFIED:20240802T102047Z
URL:https://www.akbild.ac.at/de/forschung/kunst-forschung-service/ausschre
 ibungen-wettbewerbe/2019/ak-wissenschaftspreis-2019
END:VEVENT
END:VCALENDAR
