BEGIN:VCALENDAR
VERSION:2.0
PRODID:-//Plone.org//NONSGML plone.app.event//EN
X-WR-TIMEZONE:Europe/Vienna
BEGIN:VEVENT
SUMMARY:Call | ArtStart_Studio 2019
DTSTART;VALUE=DATE:20190113
DTEND;VALUE=DATE:20190114
DTSTAMP:20260421T223925Z
UID:60a81041d046cfa6cf3ed800e4dd07b6@www.akbild.ac.at
CREATED:20220312T105735Z
DESCRIPTION:Studioprogramm für Alumni der Akademie der bildenden Künste 
 Wien. Kunstpraxis\, Vernetzung\, Öffentlichkeit:\n \n  ArtStart_Studio 20
 19\n \n bietet   eine Supportstruktur für Alumni der Akademie der bildend
 en Künste  Wien\,  die für ihre künstlerische Praxis einen Studio-Raum 
 suchen.
LAST-MODIFIED:20240802T102043Z
URL:https://www.akbild.ac.at/de/forschung/kunst-forschung-service/ausschre
 ibungen-wettbewerbe/2019/call-artstart_studio-2019/SubEvent
END:VEVENT
END:VCALENDAR
