BEGIN:VCALENDAR
VERSION:2.0
PRODID:-//Plone.org//NONSGML plone.app.event//EN
X-WR-TIMEZONE:Europe/Vienna
BEGIN:VEVENT
SUMMARY:Call for Papers| Graduiertenkonferenz 2019
DTSTART;VALUE=DATE:20190329
DTEND;VALUE=DATE:20190330
DTSTAMP:20260421T221838Z
UID:f3c8877ae12c8b129b0f9a579e82821c@www.akbild.ac.at
CREATED:20220312T105832Z
DESCRIPTION:Wir freuen uns den Call for Papers für die diesjährige Gradu
 iertenkonferenz der Akademie der bildenden Künste Wien am\n \n  13. Mai 2
 019\n \n ankündigen zu können.
LAST-MODIFIED:20240802T102043Z
URL:https://www.akbild.ac.at/de/forschung/kunst-forschung-service/ausschre
 ibungen-wettbewerbe/2019/call-for-papers-graduiertenkonferenz-2019/SubEven
 t
END:VEVENT
END:VCALENDAR
