BEGIN:VCALENDAR
VERSION:2.0
PRODID:-//Plone.org//NONSGML plone.app.event//EN
X-WR-TIMEZONE:Europe/Vienna
BEGIN:VEVENT
SUMMARY:Call for Papers | Zeitschrift für Diversitätsforschung und –ma
 nagement
DTSTART;VALUE=DATE:20190501
DTEND;VALUE=DATE:20190502
DTSTAMP:20260422T173517Z
UID:ac74b12a58790954e68a17c0289391a8@www.akbild.ac.at
CREATED:20220312T105836Z
DESCRIPTION:Für den Themenschwerpunkt werden Forschungsbeiträge gesucht\
 ,\n \n  die sich empirisch wie theoretisch mit dem Potenzial diversitätss
 ensibler bzw. -affirmativer Praktiken beschäftigen\, die Möglichkeiten i
 ntersektional angelegter Identitätspolitiken diskutieren oder Konzepte wi
 e Inklusion\, Teilhabe oder Partizipation aus explizit diversitätsaffirma
 tiver Perspektive weiterentwickeln.
LAST-MODIFIED:20240802T102043Z
URL:https://www.akbild.ac.at/de/forschung/kunst-forschung-service/ausschre
 ibungen-wettbewerbe/2019/call-for-papers-zeitschrift-fu308r-diversita308ts
 forschung-und-2013management/SubEvent
END:VEVENT
END:VCALENDAR
