BEGIN:VCALENDAR
VERSION:2.0
PRODID:-//Plone.org//NONSGML plone.app.event//EN
X-WR-TIMEZONE:Europe/Vienna
BEGIN:VEVENT
SUMMARY:Dissertationsstipendium für die Abschlussphase
DTSTART;TZID=Europe/Vienna:20191119T110000
DTSTAMP:20260424T100040Z
UID:2bec6b2357bc0da7f95b439b4e8e7b39@www.akbild.ac.at
CREATED:20220312T105920Z
DESCRIPTION:Das Dissertationsstipendium für die Abschlussphase zielt dara
 uf ab\,  Dissertant_innen in der letzten Phase der Dissertation bis zum Ab
 schluss  zu unterstützen.
LAST-MODIFIED:20240802T102047Z
URL:https://www.akbild.ac.at/de/forschung/kunst-forschung-service/ausschre
 ibungen-wettbewerbe/2019/dissertation-completion-fellowship
END:VEVENT
BEGIN:VTIMEZONE
TZID:Europe/Vienna
X-LIC-LOCATION:Europe/Vienna
BEGIN:STANDARD
DTSTART:20191027T020000
TZNAME:CET
TZOFFSETFROM:+0200
TZOFFSETTO:+0100
END:STANDARD
END:VTIMEZONE
END:VCALENDAR
