BEGIN:VCALENDAR
VERSION:2.0
PRODID:-//Plone.org//NONSGML plone.app.event//EN
X-WR-TIMEZONE:Europe/Vienna
BEGIN:VEVENT
SUMMARY:FWF | Zukunftskollegs
DTSTART;VALUE=DATE:20190412
DTEND;VALUE=DATE:20190413
DTSTAMP:20260425T150405Z
UID:53ed98aea9e39bbc00f9de11ec31b407@www.akbild.ac.at
CREATED:20220312T105830Z
DESCRIPTION:Im Frühling 2019 wird das Postdoc-Programm für innovative\, 
 interdisziplinäre Teams des FWF (in Kooperation mit der ÖAW) wieder ausg
 eschrieben. Ab März 2019 ist die Anmeldung zum Proposers‘ Day am 12. Ap
 ril 2019 möglich.
LAST-MODIFIED:20240802T102043Z
URL:https://www.akbild.ac.at/de/forschung/kunst-forschung-service/ausschre
 ibungen-wettbewerbe/2019/fwf-zukunftskollegs
END:VEVENT
END:VCALENDAR
