BEGIN:VCALENDAR
VERSION:2.0
PRODID:-//Plone.org//NONSGML plone.app.event//EN
X-WR-TIMEZONE:Europe/Vienna
BEGIN:VEVENT
SUMMARY:Kurzflimwettbewerb | Grenze/n
DTSTART;VALUE=DATE:20190705
DTEND;VALUE=DATE:20190706
DTSTAMP:20260425T024359Z
UID:977464875b45e1ca59d01fe38611744c@www.akbild.ac.at
CREATED:20220312T105904Z
DESCRIPTION:Offener\, einstufiger Realisierungswettbewerb des Instituts f
 ür Kunst im öffentlichen Raum Steiermark in Kooperation mit dem ORF Stei
 ermark für einen künstlerischen Kurzfilm.
LAST-MODIFIED:20240802T102047Z
URL:https://www.akbild.ac.at/de/forschung/kunst-forschung-service/ausschre
 ibungen-wettbewerbe/2019/kurzflimwettbewerb-grenze-n
END:VEVENT
END:VCALENDAR
