BEGIN:VCALENDAR
VERSION:2.0
PRODID:-//Plone.org//NONSGML plone.app.event//EN
X-WR-TIMEZONE:Europe/Vienna
BEGIN:VEVENT
SUMMARY:OEAW CALL | Jesh - Joint Excellence in Science and Humanities
DTSTART;VALUE=DATE:20190415
DTEND;VALUE=DATE:20190416
DTSTAMP:20260425T032403Z
UID:143687f9fc7dafb950397f6278eda2d7@www.akbild.ac.at
CREATED:20220312T105833Z
DESCRIPTION:Mit dem Programm Joint Excellence in Science and Humanities (J
 ESH)  fördert die Österreichische Akademie der Wissenschaften den Aufbau
  und  die Intensivierung von Kooperationen zwischen ausgezeichneten jungen
   Forschenden aus dem Ausland und Wissenschaftler/inne/n in Österreich.
LAST-MODIFIED:20240802T102043Z
URL:https://www.akbild.ac.at/de/forschung/kunst-forschung-service/ausschre
 ibungen-wettbewerbe/2019/oeaw-call-jesh-joint-excellence-in-science-and-hu
 manities
END:VEVENT
END:VCALENDAR
