BEGIN:VCALENDAR
VERSION:2.0
PRODID:-//Plone.org//NONSGML plone.app.event//EN
X-WR-TIMEZONE:Europe/Vienna
BEGIN:VEVENT
SUMMARY:ÖAW | Doc Stipendien
DTSTART;VALUE=DATE:20190228
DTEND;VALUE=DATE:20190301
DTSTAMP:20260426T003143Z
UID:c8839282f8947d19db01f417724a4d93@www.akbild.ac.at
CREATED:20220312T105818Z
DESCRIPTION:Mit dem Förderprogramm DOC fördert die Österreichische Akad
 emie der Wissenschaften hoch qualifizierte Dissertant_innen aus allen Gebi
 eten der Forschung.
LAST-MODIFIED:20240802T102043Z
URL:https://www.akbild.ac.at/de/forschung/kunst-forschung-service/ausschre
 ibungen-wettbewerbe/2019/oeaw-doc-stipendien
END:VEVENT
END:VCALENDAR
