BEGIN:VCALENDAR
VERSION:2.0
PRODID:-//Plone.org//NONSGML plone.app.event//EN
X-WR-TIMEZONE:Europe/Vienna
BEGIN:VEVENT
SUMMARY:Stipendium kurfristiger Auslandsaufenthalt
DTSTART;TZID=Europe/Vienna:20191210T110000
DTSTAMP:20260424T064209Z
UID:874e9633d880455c70135e7d49f3d9ce@www.akbild.ac.at
CREATED:20220312T105924Z
DESCRIPTION:Mit dem Stipendium für einen kurzfristigen Auslandsaufenthalt
  für  Dissertant_innen/PhD Kandidat_innen der Akademie können Auslandsau
 fenthalte für z.B.  Recherche\, Feldforschung\, Archivforschung\, Intervi
 ews gefördert werden\,  die für die Dissertation bzw. das PhD-Projekt no
 twendig sind.
LAST-MODIFIED:20240802T102047Z
URL:https://www.akbild.ac.at/de/forschung/kunst-forschung-service/ausschre
 ibungen-wettbewerbe/2019/stipendium-kurfristiger-auslandsaufenthalt
END:VEVENT
BEGIN:VTIMEZONE
TZID:Europe/Vienna
X-LIC-LOCATION:Europe/Vienna
BEGIN:STANDARD
DTSTART:20191027T020000
TZNAME:CET
TZOFFSETFROM:+0200
TZOFFSETTO:+0100
END:STANDARD
END:VTIMEZONE
END:VCALENDAR
