BEGIN:VCALENDAR
VERSION:2.0
PRODID:-//Plone.org//NONSGML plone.app.event//EN
X-WR-TIMEZONE:Europe/Vienna
BEGIN:VEVENT
SUMMARY:xhibitE: Call für Ausstellungsprojekte für das Jahr 2020
DTSTART;VALUE=DATE:20190214
DTEND;VALUE=DATE:20190215
DTSTAMP:20260426T021633Z
UID:656c7b4b4903262a9f72d346fa03cf23@www.akbild.ac.at
CREATED:20220312T105738Z
DESCRIPTION:Das Vizerektorat für Kunst | Forschung der Akademie der bilde
 nden  Künste Wien nimmt ab sofort Vorschläge für Ausstellungsprojekte  
 entgegen\, welche im Jahr 2020 im xhibitE realisiert werden sollen.
LAST-MODIFIED:20240802T102043Z
URL:https://www.akbild.ac.at/de/forschung/kunst-forschung-service/ausschre
 ibungen-wettbewerbe/2019/xhibite-call-fu308r-ausstellungsprojekte-fu308r-d
 as-jahr-2020
END:VEVENT
END:VCALENDAR
