BEGIN:VCALENDAR
VERSION:2.0
PRODID:-//Plone.org//NONSGML plone.app.event//EN
X-WR-TIMEZONE:Europe/Vienna
BEGIN:VEVENT
SUMMARY:Call for Papers der Zeitschrift Gender | Soziale Mobilität und Ge
 schlecht
DTSTART;VALUE=DATE:20200628
DTEND;VALUE=DATE:20200629
DTSTAMP:20260421T194039Z
UID:8b69549dcd205469e92c0c05cda5894f@www.akbild.ac.at
CREATED:20220312T110207Z
DESCRIPTION:Vonseiten sozialkritischer\, ungleichheitsanalytischer (Geschl
 echter-)Forschung wird zunehmend konstatiert\, dass soziale Aufstiegserwar
 tungen im 21. Jahrhundert häufiger enttäuscht und die Wege sozialer Mobi
 lität mitunter we­nig antizipierbar werden.
LAST-MODIFIED:20240802T102051Z
URL:https://www.akbild.ac.at/de/forschung/kunst-forschung-service/ausschre
 ibungen-wettbewerbe/2020/call-for-papers-der-zeitschrift-gender-soziale-mo
 bilitaet-und-geschlecht
END:VEVENT
END:VCALENDAR
