BEGIN:VCALENDAR
VERSION:2.0
PRODID:-//Plone.org//NONSGML plone.app.event//EN
X-WR-TIMEZONE:Europe/Vienna
BEGIN:VEVENT
SUMMARY:Ecce | Artists in Residence Ruhr
DTSTART;VALUE=DATE:20200630
DTEND;VALUE=DATE:20200701
DTSTAMP:20260423T132114Z
UID:f087d93816f622e6de7878ef474aa636@www.akbild.ac.at
CREATED:20220312T110212Z
DESCRIPTION:Im Ruhrgebiet werden im Rahmen des Kreativcampus.Ruhr europäi
 sche Koproduktionen initiiert und gefördert. Zu diesem Zweck werden Resid
 encies an professionell arbeitende regionale und europäische Künstler_in
 nen vergeben\, die gemeinsam an einem künstlerischen Projekt arbeiten.
LAST-MODIFIED:20240802T102051Z
URL:https://www.akbild.ac.at/de/forschung/kunst-forschung-service/ausschre
 ibungen-wettbewerbe/2020/ecce-artists-in-residence-ruhr
END:VEVENT
END:VCALENDAR
