BEGIN:VCALENDAR
VERSION:2.0
PRODID:-//Plone.org//NONSGML plone.app.event//EN
X-WR-TIMEZONE:Europe/Vienna
BEGIN:VEVENT
SUMMARY:FWF | Elise-Richter-PEEK
DTSTART;TZID=Europe/Vienna:20200529T140000
DTSTAMP:20260424T151805Z
UID:77a0235140d07e6469a5f24cb4c6e519@www.akbild.ac.at
CREATED:20220312T110128Z
DESCRIPTION:Das Elise-Richter-PEEK Programm richtet sich an hoch qualifizi
 erte künstlerisch-wissenschaftlich tätige Frauen\, die eine Universität
 skarriere anstreben. Ziel ist es\, hervorragend qualifizierter  künstleri
 sch-wissenschaftlich tätiger Frauen in ihrer  Karriereentwicklung in Hinb
 lick auf eine Universitätslaufbahn zu unterstützen. Nach  Abschluss der 
 Förderung soll eine Qualifikationsstufe erreicht sein\,  die zur Bewerbun
 g um eine in- oder ausländische Professur befähigt  (Habilitation oder g
 leichwertige Qualifizierung).
LAST-MODIFIED:20240802T102051Z
URL:https://www.akbild.ac.at/de/forschung/kunst-forschung-service/ausschre
 ibungen-wettbewerbe/2020/fwf-elise-richter-peek
END:VEVENT
BEGIN:VTIMEZONE
TZID:Europe/Vienna
X-LIC-LOCATION:Europe/Vienna
BEGIN:DAYLIGHT
DTSTART:20200329T030000
TZNAME:CEST
TZOFFSETFROM:+0100
TZOFFSETTO:+0200
END:DAYLIGHT
END:VTIMEZONE
END:VCALENDAR
