BEGIN:VCALENDAR
VERSION:2.0
PRODID:-//Plone.org//NONSGML plone.app.event//EN
X-WR-TIMEZONE:Europe/Vienna
BEGIN:VEVENT
SUMMARY:FWF | Wissenschaftskommunikationsprogramm 2020
DTSTART;VALUE=DATE:20200909
DTEND;VALUE=DATE:20200910
DTSTAMP:20260423T211409Z
UID:d88006303a7f89afb2a732b0c523f497@www.akbild.ac.at
CREATED:20220312T110250Z
DESCRIPTION:Das Wissenschaftskommunikationsprogramm fördert Initiativen\,
  die das Ziel haben\, wissenschaftliche Inhalte aus FWF-geförderten Proje
 kten an die Öffentlichkeit\, Schulen\, Medien\, die Politik sowie die Sci
 entific Community auf bestmögliche Weise zu kommunizieren. Geförderte Pr
 ojekte sollen dazu beitragen\, Wissenschaft und Forschung sowie die Bedeut
 ung der Grundlagenforschung stärker im öffentlichen Bewusstsein zu veran
 kern.
LAST-MODIFIED:20240802T102051Z
URL:https://www.akbild.ac.at/de/forschung/kunst-forschung-service/ausschre
 ibungen-wettbewerbe/2020/fwf-wissenschaftskommunikationsprogramm-2020
END:VEVENT
END:VCALENDAR
