BEGIN:VCALENDAR
VERSION:2.0
PRODID:-//Plone.org//NONSGML plone.app.event//EN
X-WR-TIMEZONE:Europe/Vienna
BEGIN:VEVENT
SUMMARY:Mauthausen Komitee Österreich und Österreichische Lagergemeinsch
 aft Mauthausen | Hans-Maršálek-Preis
DTSTART;VALUE=DATE:20201130
DTEND;VALUE=DATE:20201201
DTSTAMP:20260425T205930Z
UID:44f834c42def69b38af009d14a23d92e@www.akbild.ac.at
CREATED:20220312T110407Z
DESCRIPTION:Zum dritten Mal stiften das Mauthausen Komitee Österreich und
  die Österreichische Lagergemeinschaft Mauthausen im Jahr 2021 den Hans-M
 aršálek-Preis in Erfüllung des Vermächtnisses der Österreichischen La
 gergemeinschaft Mauthausen für herausragende Leistungen im Bereich der Ge
 denk-\, Erinnerungs- und Bewusstseinsarbeit.
LAST-MODIFIED:20240802T102055Z
URL:https://www.akbild.ac.at/de/forschung/kunst-forschung-service/ausschre
 ibungen-wettbewerbe/2020/mauthausen-komitee-oesterreich-und-oesterreichisc
 he-lagergemeinschaft-mauthausen-hans-marsalek-preis
END:VEVENT
END:VCALENDAR
