BEGIN:VCALENDAR
VERSION:2.0
PRODID:-//Plone.org//NONSGML plone.app.event//EN
X-WR-TIMEZONE:Europe/Vienna
BEGIN:VEVENT
SUMMARY:periscope | Open Call 2021
DTSTART;VALUE=DATE:20200905
DTEND;VALUE=DATE:20200906
DTSTAMP:20260423T144643Z
UID:7a78beb1b167d6bf66339dfebce1ec18@www.akbild.ac.at
CREATED:20220312T110247Z
DESCRIPTION:Für das Jahr 2021 richtet periscope seine Ausschreibung an ö
 sterreichische und internationale bildende Künstler_innen. Ein besonderes
  inhaltliches Interesse von periscope gilt gesellschaftsrelevanten und rau
 mbezogenen Ansätzen. Die Ausschreibung richtet sich an alle Kunstschaffen
 den\, die ihre künstlerische Praxis in einem dieser Gebiete verorten.
LAST-MODIFIED:20240802T102051Z
URL:https://www.akbild.ac.at/de/forschung/kunst-forschung-service/ausschre
 ibungen-wettbewerbe/2020/periscope-open-call
END:VEVENT
END:VCALENDAR
