BEGIN:VCALENDAR
VERSION:2.0
PRODID:-//Plone.org//NONSGML plone.app.event//EN
X-WR-TIMEZONE:Europe/Vienna
BEGIN:VEVENT
SUMMARY:Photon | Fotowettbewerb Different Worlds
DTSTART;VALUE=DATE:20200930
DTEND;VALUE=DATE:20201001
DTSTAMP:20260423T193044Z
UID:642bea8f9e259ddafa8a984e5137fd6e@www.akbild.ac.at
CREATED:20220312T110310Z
DESCRIPTION:Der Open Call richtet sich an junge Fotograf_innen (Jahrgang 1
 985 und jünger)\, die in der CEE-Region und Österreich arbeiten oder in 
 diesen Staaten aufwuchsen.
LAST-MODIFIED:20240802T102051Z
URL:https://www.akbild.ac.at/de/forschung/kunst-forschung-service/ausschre
 ibungen-wettbewerbe/2020/photon-fotowettbewerb-different-worlds
END:VEVENT
END:VCALENDAR
