BEGIN:VCALENDAR
VERSION:2.0
PRODID:-//Plone.org//NONSGML plone.app.event//EN
X-WR-TIMEZONE:Europe/Vienna
BEGIN:VEVENT
SUMMARY:Pride Biz Forschungspreis 2020 | LGBTI in Wirtschaft\, Arbeitswelt
  und Gesellschaft
DTSTART;VALUE=DATE:20200714
DTEND;VALUE=DATE:20200715
DTSTAMP:20260425T102749Z
UID:484361fc95729bb04a9ae378303b8870@www.akbild.ac.at
CREATED:20220312T110214Z
DESCRIPTION:Gefördert werden abgeschlossene oder geplante wissenschaftlic
 he Leistungen\, die sich mit den Themen LGBTI in Wirtschaft\, Arbeitswelt 
 und Gesellschaft beschäftigen.
LAST-MODIFIED:20240802T102051Z
URL:https://www.akbild.ac.at/de/forschung/kunst-forschung-service/ausschre
 ibungen-wettbewerbe/2020/pride-biz-forschungspreis-2020-lgbti-in-wirtschaf
 t-arbeitswelt-und-gesellschaft
END:VEVENT
END:VCALENDAR
