BEGIN:VCALENDAR
VERSION:2.0
PRODID:-//Plone.org//NONSGML plone.app.event//EN
X-WR-TIMEZONE:Europe/Vienna
BEGIN:VEVENT
SUMMARY:Südwestrundfunk | Karl-Sczuka-Preis 2020
DTSTART;VALUE=DATE:20200615
DTEND;VALUE=DATE:20200616
DTSTAMP:20260425T105340Z
UID:7edf772d07c1ec748825caaa5d658678@www.akbild.ac.at
CREATED:20220312T110157Z
DESCRIPTION:Seit 1972 wird er bei den Donaueschinger Musiktagen verliehen 
 und ist  seitdem zur international wichtigsten Auszeichnung für avanciert
 e Werke  der Radiokunst geworden: der 1955 vom ehemaligen Südwestfunk ges
 tiftete  und zunächst zweijährig für Hörspielmusik vergebene Karl-Sczu
 ka-Preis.
LAST-MODIFIED:20240802T102051Z
URL:https://www.akbild.ac.at/de/forschung/kunst-forschung-service/ausschre
 ibungen-wettbewerbe/2020/suedwestrundfunk-karl-sczuka-preis-2020
END:VEVENT
END:VCALENDAR
