BEGIN:VCALENDAR
VERSION:2.0
PRODID:-//Plone.org//NONSGML plone.app.event//EN
X-WR-TIMEZONE:Europe/Vienna
BEGIN:VEVENT
SUMMARY:TKI open 21_ausbaden
DTSTART;VALUE=DATE:20201010
DTEND;VALUE=DATE:20201011
DTSTAMP:20260424T091325Z
UID:bcf6491df24a928941d2219f55720caf@www.akbild.ac.at
CREATED:20220312T110318Z
DESCRIPTION:Die Ausschreibung steht unter dem Thema "ausbaden". Gesucht we
 rden Kunst- und Kulturprojekte\, die Konsequenzen aber auch Auswege aus de
 r Klima- und Coronakrise in den Blick nehmen und die im weitesten Sinne et
 was ausbaden.
LAST-MODIFIED:20240802T102055Z
URL:https://www.akbild.ac.at/de/forschung/kunst-forschung-service/ausschre
 ibungen-wettbewerbe/2020/tki-open-21_ausbaden
END:VEVENT
END:VCALENDAR
