BEGIN:VCALENDAR
VERSION:2.0
PRODID:-//Plone.org//NONSGML plone.app.event//EN
X-WR-TIMEZONE:Europe/Vienna
BEGIN:VEVENT
SUMMARY:Akademie Studio-Programm 2021/22
DTSTART;TZID=Europe/Vienna:20210607T120000
DTSTAMP:20260424T063954Z
UID:1cbc58acc51b0d9c242d030aceda181d@www.akbild.ac.at
CREATED:20220312T110748Z
DESCRIPTION:Im Rahmen des Atelierförderprogramm für Absolvent_innen der 
 Akademie der bildenden Künste Wien können die Stipendiat_innen jeweils z
 u zweit oder zu dritt einen Atelierplatz im\n \n  \n   Creative Cluster\n 
  \n \n im 5. Wiener Gemeindebezirk beziehen.
LAST-MODIFIED:20240802T102059Z
URL:https://www.akbild.ac.at/de/forschung/kunst-forschung-service/ausschre
 ibungen-wettbewerbe/2021/akademie-studio-programm-2021-22
END:VEVENT
BEGIN:VTIMEZONE
TZID:Europe/Vienna
X-LIC-LOCATION:Europe/Vienna
BEGIN:DAYLIGHT
DTSTART:20210328T030000
TZNAME:CEST
TZOFFSETFROM:+0100
TZOFFSETTO:+0200
END:DAYLIGHT
END:VTIMEZONE
END:VCALENDAR
