BEGIN:VCALENDAR
VERSION:2.0
PRODID:-//Plone.org//NONSGML plone.app.event//EN
X-WR-TIMEZONE:Europe/Vienna
BEGIN:VEVENT
SUMMARY:Ausschreibung | Birgit-Jürgenssen-Preis
DTSTART;TZID=Europe/Vienna:20210209T110000
DTSTAMP:20260426T021428Z
UID:978eea095ca3dfcf7bef84ea465bcd99@www.akbild.ac.at
CREATED:20220312T110523Z
DESCRIPTION:Auch in diesem Jahr wird wieder dank einer Unterstützung der 
 Galerie Winter der Birgit-Jürgenssen-Preis vergeben. Der Preis umfasst ei
 n Preisgeld von 5.000 Euro sowie eine Ausstellung an der Akademie der bild
 enden Künste Wien.
LAST-MODIFIED:20240802T102055Z
URL:https://www.akbild.ac.at/de/forschung/kunst-forschung-service/ausschre
 ibungen-wettbewerbe/2021/ausschreibung-birgit-juergenssen-preis
END:VEVENT
BEGIN:VTIMEZONE
TZID:Europe/Vienna
X-LIC-LOCATION:Europe/Vienna
BEGIN:STANDARD
DTSTART:20201025T020000
TZNAME:CET
TZOFFSETFROM:+0200
TZOFFSETTO:+0100
END:STANDARD
END:VTIMEZONE
END:VCALENDAR
