BEGIN:VCALENDAR
VERSION:2.0
PRODID:-//Plone.org//NONSGML plone.app.event//EN
X-WR-TIMEZONE:Europe/Vienna
BEGIN:VEVENT
SUMMARY:Ausschreibung | Cathrin Pichler Preis 2021
DTSTART;TZID=Europe/Vienna:20210505T110000
DTSTAMP:20260425T195517Z
UID:361040d73ecc316f42cee2d3fa7e002d@www.akbild.ac.at
CREATED:20220312T110708Z
DESCRIPTION:Zu Ehren der Denkerin\, Kuratorin\, Autorin und Lehrenden wird
  heuer zum fünften Mal der Cathrin Pichler Preis an eine Studierende oder
  einen Studierenden der Akademie der bildenden Künste Wien vergeben\, die
 _der sich – im Sinne Cathrin Pichlers – damit  auseinandersetzt\, spe
 zifisch künstlerische Methoden und Praktiken als Beitrag und Intervention
  zu einem wissenschaftlichen Diskurs zu denken.
LAST-MODIFIED:20240802T102059Z
URL:https://www.akbild.ac.at/de/forschung/kunst-forschung-service/ausschre
 ibungen-wettbewerbe/2021/ausschreibung-cathrin-pichler-preis-2021
END:VEVENT
BEGIN:VTIMEZONE
TZID:Europe/Vienna
X-LIC-LOCATION:Europe/Vienna
BEGIN:DAYLIGHT
DTSTART:20210328T030000
TZNAME:CEST
TZOFFSETFROM:+0100
TZOFFSETTO:+0200
END:DAYLIGHT
END:VTIMEZONE
END:VCALENDAR
