BEGIN:VCALENDAR
VERSION:2.0
PRODID:-//Plone.org//NONSGML plone.app.event//EN
X-WR-TIMEZONE:Europe/Vienna
BEGIN:VEVENT
SUMMARY:Ausschreibung | Ernst A. Plischke Studienpreis 2021
DTSTART;TZID=Europe/Vienna:20210629T110000
DTSTAMP:20260425T212506Z
UID:e84979d46565beb8c6993259e1ab18be@www.akbild.ac.at
CREATED:20220312T110808Z
DESCRIPTION:Der Ernst A. Plischke Studienpreis wird auf Initiative der Ern
 st A. Plischke Gesellschaft mit Unterstützung der Akademie der bildenden 
 Künste Wien ins Leben gerufen. Er wird alle zwei Jahre ausgelobt und aus 
 den Mitgliedsbeiträgen ordentlicher und unterstützender Mitglieder der E
 rnst A. Plischke Gesellschaft finanziert.
LAST-MODIFIED:20240802T102059Z
URL:https://www.akbild.ac.at/de/forschung/kunst-forschung-service/ausschre
 ibungen-wettbewerbe/2021/ausschreibung-ernst-a.-plischke-studienpreis-2021
END:VEVENT
BEGIN:VTIMEZONE
TZID:Europe/Vienna
X-LIC-LOCATION:Europe/Vienna
BEGIN:DAYLIGHT
DTSTART:20210328T030000
TZNAME:CEST
TZOFFSETFROM:+0100
TZOFFSETTO:+0200
END:DAYLIGHT
END:VTIMEZONE
END:VCALENDAR
