BEGIN:VCALENDAR
VERSION:2.0
PRODID:-//Plone.org//NONSGML plone.app.event//EN
X-WR-TIMEZONE:Europe/Vienna
BEGIN:VEVENT
SUMMARY:Bank Austria Studios
DTSTART;VALUE=DATE:20210115
DTEND;VALUE=DATE:20210116
DTSTAMP:20260426T021230Z
UID:8f74a356d8c303235513eaa95159cc24@www.akbild.ac.at
CREATED:20220312T110458Z
DESCRIPTION:Die Förderung von Kunst und Kultur hat in der Bank Austria ei
 ne lange Tradition. Von Beginn an galt ein besonderes Augenmerk jungen Kü
 nstler_innen\, da die Bank Austria ihre Unterstützung als nachhaltige Inv
 estition in die Zukunft einer Gesellschaft versteht.
LAST-MODIFIED:20240802T102055Z
URL:https://www.akbild.ac.at/de/forschung/kunst-forschung-service/ausschre
 ibungen-wettbewerbe/2021/bank-austria-studios
END:VEVENT
END:VCALENDAR
