BEGIN:VCALENDAR
VERSION:2.0
PRODID:-//Plone.org//NONSGML plone.app.event//EN
X-WR-TIMEZONE:Europe/Vienna
BEGIN:VEVENT
SUMMARY:Be Open und Cumulus | Design for Sustainable Cities
DTSTART;VALUE=DATE:20210131
DTEND;VALUE=DATE:20210201
DTSTAMP:20260426T021337Z
UID:517e31caad4652c2176f88d0456042f2@www.akbild.ac.at
CREATED:20220312T110519Z
DESCRIPTION:Der internationale Wettbewerb richtet sich an Studierende und 
 Absolvent_innen aller Kunst-\, Design-\, Architektur- und Mediendiszipline
 n von Universitäten und Hochschulen weltweit. Ziel des Wettbewerbs ist es
 \, junge Menschen zu ermutigen\, innovative Lösungen für nachhaltigere S
 tädte zu schaffen.
LAST-MODIFIED:20240802T102055Z
URL:https://www.akbild.ac.at/de/forschung/kunst-forschung-service/ausschre
 ibungen-wettbewerbe/2021/be-open-und-cumulus-design-for-sustainable-cities
END:VEVENT
END:VCALENDAR
