BEGIN:VCALENDAR
VERSION:2.0
PRODID:-//Plone.org//NONSGML plone.app.event//EN
X-WR-TIMEZONE:Europe/Vienna
BEGIN:VEVENT
SUMMARY:brut | Residenz und Präsentation bei imagetanz 2022
DTSTART;VALUE=DATE:20211103
DTEND;VALUE=DATE:20211104
DTSTAMP:20260423T114425Z
UID:f334cd08b8ac5116cd043c0aa2ba4d0b@www.akbild.ac.at
CREATED:20220312T111019Z
DESCRIPTION:Mit dem Format\n \n  Handle with care\n \n werden im brut rege
 lmäßig  Probenprozesse geöffnet und Raum für Dialog und Austausch gesc
 haffen.  Künstler_innen erproben Teile ihrer Arbeit vor einem kleinen Pub
 likum\,  erhalten Feedback und machen die Besucher_innen zu Kompliz_innen.
LAST-MODIFIED:20240802T102104Z
URL:https://www.akbild.ac.at/de/forschung/kunst-forschung-service/ausschre
 ibungen-wettbewerbe/2021/brut-residenz-und-praesentation-bei-imagetanz-202
 2
END:VEVENT
END:VCALENDAR
