BEGIN:VCALENDAR
VERSION:2.0
PRODID:-//Plone.org//NONSGML plone.app.event//EN
X-WR-TIMEZONE:Europe/Vienna
BEGIN:VEVENT
SUMMARY:Bundesfestival junger Film | Kurzfilmwettbewerb
DTSTART;VALUE=DATE:20210212
DTEND;VALUE=DATE:20210213
DTSTAMP:20260426T023015Z
UID:50082271e829c0d2221b39f16e5ae11d@www.akbild.ac.at
CREATED:20220312T110527Z
DESCRIPTION:Das Bundesfestival junger Film zu den größten deutschsprachi
 gen Kurzfilmfestivals im Nachwuchsbereich.
LAST-MODIFIED:20240802T102055Z
URL:https://www.akbild.ac.at/de/forschung/kunst-forschung-service/ausschre
 ibungen-wettbewerbe/2021/bundesfestival-junger-film-kurzfilmwettbewerb
END:VEVENT
END:VCALENDAR
