BEGIN:VCALENDAR
VERSION:2.0
PRODID:-//Plone.org//NONSGML plone.app.event//EN
X-WR-TIMEZONE:Europe/Vienna
BEGIN:VEVENT
SUMMARY:ERC Consolidator Grant 2021
DTSTART;VALUE=DATE:20210420
DTEND;VALUE=DATE:20210421
DTSTAMP:20260425T195414Z
UID:370f3f95057bcbfda5a812871bb30d49@www.akbild.ac.at
CREATED:20220312T110637Z
DESCRIPTION:Der ERC Consolidator Grant fördert exzellente Wissenschafter_
 innen\, die in Europa als "Principal Investigator" (Forschungs- bzw. Proje
 ktleiter_in) bahnbrechende Forschung betreiben wollen\, bei der Konsolidie
 rung ihrer eigenen\, unabhängigen Forschungsgruppe. Consolidator Grant-Au
 sschreibungen richten sich an Forscher_innen\, deren Doktorat zum Zeitpunk
 t des vom ERC festgelegten Referenzdatums zwischen sieben und zwölf Jahre
 n zurückliegt.
LAST-MODIFIED:20240802T102059Z
URL:https://www.akbild.ac.at/de/forschung/kunst-forschung-service/ausschre
 ibungen-wettbewerbe/2021/erc-consolidator-grant-2021
END:VEVENT
END:VCALENDAR
