BEGIN:VCALENDAR
VERSION:2.0
PRODID:-//Plone.org//NONSGML plone.app.event//EN
X-WR-TIMEZONE:Europe/Vienna
BEGIN:VEVENT
SUMMARY:Exhibit | Ausstellungsprojekte ab Herbst 2022
DTSTART;TZID=Europe/Vienna:20211130T110000
DTSTAMP:20260424T003344Z
UID:572ba40785b343d7fcfb320f7afc0f61@www.akbild.ac.at
CREATED:20220312T111043Z
DESCRIPTION:Das Vizerektorat für Kunst | Lehre der Akademie der bildenden
  Künste Wien nimmt ab sofort Vorschläge für Ausstellungsprojekte entgeg
 en\, die ab Herbst 2022 in den Ausstellungsräumen der Akademie der bilden
 den Künste Wien präsentiert werden – der Exhibit Galerie am Schillerpl
 atz 3 sowie dem Exhibit Eschenbachgasse in der Eschenbachgasse 11/Ecke Get
 reidemarkt (siehe Anhang 1 - Informationsblatt Ausstellung). Der Call rich
 tet sich sowohl an Personen außerhalb wie innerhalb der Akademie.
LAST-MODIFIED:20240802T102104Z
URL:https://www.akbild.ac.at/de/forschung/kunst-forschung-service/ausschre
 ibungen-wettbewerbe/2021/exhibit-ausstellungsprojekte-ab-herbst-2022
END:VEVENT
BEGIN:VTIMEZONE
TZID:Europe/Vienna
X-LIC-LOCATION:Europe/Vienna
BEGIN:STANDARD
DTSTART:20211031T020000
TZNAME:CET
TZOFFSETFROM:+0200
TZOFFSETTO:+0100
END:STANDARD
END:VTIMEZONE
END:VCALENDAR
