BEGIN:VCALENDAR
VERSION:2.0
PRODID:-//Plone.org//NONSGML plone.app.event//EN
X-WR-TIMEZONE:Europe/Vienna
BEGIN:VEVENT
SUMMARY:Frontiers in Sustainability | Sustainable Consumption and Care
DTSTART;VALUE=DATE:20210930
DTEND;VALUE=DATE:20211001
DTSTAMP:20260426T021342Z
UID:7e4be9deff39c3ca742f13bed034df49@www.akbild.ac.at
CREATED:20220312T110950Z
DESCRIPTION:Call for proposals in the new Research Topic "Sustainable cons
 umption and care" in the section "Sustainable consumption" of the journal 
 "Frontiers in Sustainability" in order to share insights and to further ex
 pand this area of study.
LAST-MODIFIED:20240802T102104Z
URL:https://www.akbild.ac.at/de/forschung/kunst-forschung-service/ausschre
 ibungen-wettbewerbe/2021/frontiers-in-sustainability-sustainable-consumpti
 on-and-care
END:VEVENT
END:VCALENDAR
