BEGIN:VCALENDAR
VERSION:2.0
PRODID:-//Plone.org//NONSGML plone.app.event//EN
X-WR-TIMEZONE:Europe/Vienna
BEGIN:VEVENT
SUMMARY:FWF und NKFIH | Bilaterale Projekte Ungarn und Österreich
DTSTART;VALUE=DATE:20210318
DTEND;VALUE=DATE:20210319
DTSTAMP:20260426T034934Z
UID:66808aa2d1fe0d8ab9bd3208af70f202@www.akbild.ac.at
CREATED:20220312T110559Z
DESCRIPTION:Der FWF ermöglicht gemeinsam mit seiner ungarischen Partneror
 ganisation NKFIH (National Research\, Development and Innovation Office) b
 ereits seit 2012 die Förderung von eng integrierten bilateralen Forschung
 sprojekten („Joint Projects“) von Wissenschaftler_innen aus Österreic
 h und Ungarn.
LAST-MODIFIED:20240802T102055Z
URL:https://www.akbild.ac.at/de/forschung/kunst-forschung-service/ausschre
 ibungen-wettbewerbe/2021/fwf-und-nkfih-bilaterale-projekte-ungarn-und-oest
 erreich
END:VEVENT
END:VCALENDAR
