BEGIN:VCALENDAR
VERSION:2.0
PRODID:-//Plone.org//NONSGML plone.app.event//EN
X-WR-TIMEZONE:Europe/Vienna
BEGIN:VEVENT
SUMMARY:Gerda Henkel Stiftung | Förderschwerpunkt Demokratie
DTSTART;VALUE=DATE:20210512
DTEND;VALUE=DATE:20210513
DTSTAMP:20260425T195543Z
UID:23c2db80b72aef8c445bfcc57678594c@www.akbild.ac.at
CREATED:20220312T110710Z
DESCRIPTION:In den letzten Jahren ist eine bislang eher abstrakte Erkenntn
 is zur Erfahrungstatsache geworden: Demokratie ist nicht selbstverständli
 ch. Rechtsstaat und Gewaltenteilung\, Meinungsfreiheit und Verpflichtung a
 uf das Gemeinwohl haben auch in Kernländern der Demokratie an Bindewirkun
 g verloren\, werden relativiert\, in Frage gestellt und eingeschränkt.
LAST-MODIFIED:20240802T102059Z
URL:https://www.akbild.ac.at/de/forschung/kunst-forschung-service/ausschre
 ibungen-wettbewerbe/2021/gerda-henkel-stiftung-foerderschwerpunkt-demokrat
 ie
END:VEVENT
END:VCALENDAR
