BEGIN:VCALENDAR
VERSION:2.0
PRODID:-//Plone.org//NONSGML plone.app.event//EN
X-WR-TIMEZONE:Europe/Vienna
BEGIN:VEVENT
SUMMARY:Hoepfner Stiftung | Fotowettbewerb Nähe und Distanz
DTSTART;VALUE=DATE:20210430
DTEND;VALUE=DATE:20210501
DTSTAMP:20260425T195542Z
UID:3669bf54af04b88cf7038eabe0528f1a@www.akbild.ac.at
CREATED:20220312T110646Z
DESCRIPTION:Bereits zum siebten Mal schreibt die Hoepfner Stiftung\, Karls
 ruhe einen Fotowettbewerb aus\, in diesem Jahr mit dem Titel "Nähe und Di
 stanz".
LAST-MODIFIED:20240802T102059Z
URL:https://www.akbild.ac.at/de/forschung/kunst-forschung-service/ausschre
 ibungen-wettbewerbe/2021/hoepfner-stiftung-fotowettbewerb-naehe-und-distan
 z
END:VEVENT
END:VCALENDAR
