BEGIN:VCALENDAR
VERSION:2.0
PRODID:-//Plone.org//NONSGML plone.app.event//EN
X-WR-TIMEZONE:Europe/Vienna
BEGIN:VEVENT
SUMMARY:Maria Schaumayer Stiftung | Preise für wissenschaftliche Arbeiten
DTSTART;VALUE=DATE:20210415
DTEND;VALUE=DATE:20210416
DTSTAMP:20260425T212650Z
UID:99de80434e6f0e063cded0dd162d4aa0@www.akbild.ac.at
CREATED:20220312T110635Z
DESCRIPTION:Die Dr. Maria Schaumayer-Stiftung hat die aktive Unterstützun
 g von Karrieren von Frauen in Wirtschaft und Wissenschaft zum Ziel.
LAST-MODIFIED:20240802T102059Z
URL:https://www.akbild.ac.at/de/forschung/kunst-forschung-service/ausschre
 ibungen-wettbewerbe/2021/maria-schaumayer-stiftung-preise-fuer-wissenschaf
 tliche-arbeiten
END:VEVENT
END:VCALENDAR
