BEGIN:VCALENDAR
VERSION:2.0
PRODID:-//Plone.org//NONSGML plone.app.event//EN
X-WR-TIMEZONE:Europe/Vienna
BEGIN:VEVENT
SUMMARY:netidee und FWF | netidee Science
DTSTART;TZID=Europe/Vienna:20210412T140000
DTSTAMP:20260425T195415Z
UID:547501693149868afeb312ff53925fea@www.akbild.ac.at
CREATED:20220312T110629Z
DESCRIPTION:Ab sofort können Anträge in den Förderungskategorien Einzel
 projekte oder Lise Meitner\, die von der Internet Privatstiftung Austria (
 IPA) im Rahmen von netidee SCIENCE finanziert werden sollen\, beim FWF ein
 gereicht werden. Die Ausschreibung ist geöffnet für die Einreichung von 
 grundlagenwissenschaftlichen Forschungsprojekten zur Förderung des Intern
 et in Österreich und dafür erforderlichen Technologien und Methoden.
LAST-MODIFIED:20240802T102059Z
URL:https://www.akbild.ac.at/de/forschung/kunst-forschung-service/ausschre
 ibungen-wettbewerbe/2021/netidee-und-fwf-netidee-sience
END:VEVENT
BEGIN:VTIMEZONE
TZID:Europe/Vienna
X-LIC-LOCATION:Europe/Vienna
BEGIN:DAYLIGHT
DTSTART:20210328T030000
TZNAME:CEST
TZOFFSETFROM:+0100
TZOFFSETTO:+0200
END:DAYLIGHT
END:VTIMEZONE
END:VCALENDAR
