BEGIN:VCALENDAR
VERSION:2.0
PRODID:-//Plone.org//NONSGML plone.app.event//EN
X-WR-TIMEZONE:Europe/Vienna
BEGIN:VEVENT
SUMMARY:Ö1 | Talentestipendium für bildende Kunst 2021
DTSTART;VALUE=DATE:20210514
DTEND;VALUE=DATE:20210515
DTSTAMP:20260425T195542Z
UID:a8598ccc514991c144b9c2d69bd788ab@www.akbild.ac.at
CREATED:20220312T110711Z
DESCRIPTION:Das Ö1 Talentestipendium für bildende Kunst in der Höhe von
  10.000 Euro\, das vom Wiener Städtischen Versicherungsverein zur Verfüg
 ung gestellt wird\, wird von Ö1 heuer bereits zum vierzehnten Mal ausgesc
 hrieben. Dieser Ö1 Preis dient der Nachwuchsförderung von Studierenden.
LAST-MODIFIED:20240802T102059Z
URL:https://www.akbild.ac.at/de/forschung/kunst-forschung-service/ausschre
 ibungen-wettbewerbe/2021/oe1-talentestipendium-fuer-bildende-kunst-2021
END:VEVENT
END:VCALENDAR
