BEGIN:VCALENDAR
VERSION:2.0
PRODID:-//Plone.org//NONSGML plone.app.event//EN
X-WR-TIMEZONE:Europe/Vienna
BEGIN:VEVENT
SUMMARY:ÖAW | Roland Atefie-Preis
DTSTART;VALUE=DATE:20210409
DTEND;VALUE=DATE:20210410
DTSTAMP:20260425T195517Z
UID:0b0d72b48ea6932151a20bf4d8e7a4a5@www.akbild.ac.at
CREATED:20220312T110627Z
DESCRIPTION:Der Roland-Atefie-Preis wird für eine hervorragende Dissertat
 ion aus den Fachbereichen Philosophie\, Theologie oder Indologie vergeben\
 , die an einer österreichischen Universität durchgeführt und max. zwei 
 Jahre vor dem Einreichtermin abgeschlossen wurde.
LAST-MODIFIED:20240802T102059Z
URL:https://www.akbild.ac.at/de/forschung/kunst-forschung-service/ausschre
 ibungen-wettbewerbe/2021/oeaw-roland-atefie-preis
END:VEVENT
END:VCALENDAR
