BEGIN:VCALENDAR
VERSION:2.0
PRODID:-//Plone.org//NONSGML plone.app.event//EN
X-WR-TIMEZONE:Europe/Vienna
BEGIN:VEVENT
SUMMARY:Österreichisches Kulturforum Bukarest | Innovative Dialog-Projekt
 e zwischen Österreich und Rumänien
DTSTART;VALUE=DATE:20210131
DTEND;VALUE=DATE:20210201
DTSTAMP:20260422T164733Z
UID:15b626417ad0350413c93b35fa092df5@www.akbild.ac.at
CREATED:20220312T110518Z
DESCRIPTION:Das Österreichische Kulturforum Bukarest lädt arrivierte und
  aufstrebende Künstler_innen\, Wissenschaftler_innen und Künstlervereini
 gungen aus verschiedensten Bereichen und Sparten aus Österreich ein\, an 
 diesem Ideenwettbewerb teilzunehmen. Beiträge aus den Bereichen Musik\, v
 isuelle\, darstellende und digitale Kunst\, multi- und transmediale Projek
 te\, soziale und gemeinschaftliche Kunstprojekte\, Literatur\, und aus and
 eren Bereichen sind willkommen.
LAST-MODIFIED:20240802T102055Z
URL:https://www.akbild.ac.at/de/forschung/kunst-forschung-service/ausschre
 ibungen-wettbewerbe/2021/oesterreichisches-kulturforum-bukarest-innovative
 -dialog-projekte-zwischen-oesterreich-und-rumaenien
END:VEVENT
END:VCALENDAR
