BEGIN:VCALENDAR
VERSION:2.0
PRODID:-//Plone.org//NONSGML plone.app.event//EN
X-WR-TIMEZONE:Europe/Vienna
BEGIN:VEVENT
SUMMARY:B&C Privatstiftung | Houskapreis 2021
DTSTART;VALUE=DATE:20210331
DTEND;VALUE=DATE:20210401
DTSTAMP:20260426T022212Z
UID:d8d53da13266494f70b936fd8649ee90@www.akbild.ac.at
CREATED:20220312T110608Z
DESCRIPTION:Zum 16. Mal vergibt die B&amp\;C Privatstiftung die goldene Tr
 ophäe in den beiden Kategorien "Hochschulforschung" und "Forschung und En
 twicklung in KMU".
LAST-MODIFIED:20240802T102055Z
URL:https://www.akbild.ac.at/de/forschung/kunst-forschung-service/ausschre
 ibungen-wettbewerbe/2021/p-c-privatstiftung-houskapreis-2021
END:VEVENT
END:VCALENDAR
