BEGIN:VCALENDAR
VERSION:2.0
PRODID:-//Plone.org//NONSGML plone.app.event//EN
X-WR-TIMEZONE:Europe/Vienna
BEGIN:VEVENT
SUMMARY:Stiftung Deutsche Sprache | WB Stiftungspreis Wilhelm Busch
DTSTART;VALUE=DATE:20210630
DTEND;VALUE=DATE:20210701
DTSTAMP:20260425T195517Z
UID:d9421fa68bcb87bd27ad5f66106c8109@www.akbild.ac.at
CREATED:20220312T110810Z
DESCRIPTION:Der Preis wird für die beste deutschsprachige Bachelor- oder 
 Masterarbeit zu dem allgemeinen Rahmenthema Zeichnung und Literatur vergeb
 en.
LAST-MODIFIED:20240802T102059Z
URL:https://www.akbild.ac.at/de/forschung/kunst-forschung-service/ausschre
 ibungen-wettbewerbe/2021/stiftung-deutsche-sprache-wb-stiftungspreis-wilhe
 lm-busch
END:VEVENT
END:VCALENDAR
