BEGIN:VCALENDAR
VERSION:2.0
PRODID:-//Plone.org//NONSGML plone.app.event//EN
X-WR-TIMEZONE:Europe/Vienna
BEGIN:VEVENT
SUMMARY:Underground Film Award
DTSTART;VALUE=DATE:20210531
DTEND;VALUE=DATE:20210601
DTSTAMP:20260425T195518Z
UID:0242fe5ff0e6db82e65bdde983396c26@www.akbild.ac.at
CREATED:20220312T110736Z
DESCRIPTION:Das Filmboard Karlsruhe möchte zusammen mit den Independent D
 ays | Internationale Filmfestspiele Karlsruhe unabhängigen Filmemacher_in
 nen ohne große finanzielle Möglichkeiten eine Produktionsmöglichkeit f
 ür ein Low-Budget-Projekt im Wert von 3000 Euro bieten. Daher wird der Ku
 rzfilmwettbewerb Underground Film Award im Rahmen des Labels "Karlsruhe 
 – UNESCO Creative City of Media Arts" ausgelobt.
LAST-MODIFIED:20240802T102059Z
URL:https://www.akbild.ac.at/de/forschung/kunst-forschung-service/ausschre
 ibungen-wettbewerbe/2021/underground-film-award
END:VEVENT
END:VCALENDAR
