BEGIN:VCALENDAR
VERSION:2.0
PRODID:-//Plone.org//NONSGML plone.app.event//EN
X-WR-TIMEZONE:Europe/Vienna
BEGIN:VEVENT
SUMMARY:ZHdK | Research Academy 2021
DTSTART;VALUE=DATE:20210504
DTEND;VALUE=DATE:20210505
DTSTAMP:20260425T195441Z
UID:788cbd86ce0bf30fdd1af71ade3ce373@www.akbild.ac.at
CREATED:20220312T110707Z
DESCRIPTION:Für die Research Academy zum Thema "Futures of Liveness" kön
 nen Beiträge von Künstler_innen\, Praktiker_innen und Theoretiker_innen 
 im Bereich Theater und Performancekunst eingereicht werden.
LAST-MODIFIED:20240802T102059Z
URL:https://www.akbild.ac.at/de/forschung/kunst-forschung-service/ausschre
 ibungen-wettbewerbe/2021/zhdk-research-academy-2021
END:VEVENT
END:VCALENDAR
