BEGIN:VCALENDAR
VERSION:2.0
PRODID:-//Plone.org//NONSGML plone.app.event//EN
X-WR-TIMEZONE:Europe/Vienna
BEGIN:VEVENT
SUMMARY:ÖNB Labs | Web Residency 2022
DTSTART;VALUE=DATE:20220419
DTEND;VALUE=DATE:20220420
DTSTAMP:20260424T120751Z
UID:be8669ce16ec43b9a0bdcee1b8974259@www.akbild.ac.at
CREATED:20220407T132314Z
DESCRIPTION:Künstler_innen sind eingeladen\, sich mit einer Projektidee z
 u den digitalisierten historischen Beständen der "Wiener Zeitung" (1780-1
 881) und/oder zur Luftbildersammlung aus den 1930er Jahren "Österreich au
 s der Luft" für eine sechswöchige Web Residency zu bewerben.
LAST-MODIFIED:20240802T102108Z
URL:https://www.akbild.ac.at/de/forschung/kunst-forschung-service/ausschre
 ibungen-wettbewerbe/2022/oenb-labs-web-residency-2022
END:VEVENT
END:VCALENDAR
