BEGIN:VCALENDAR
VERSION:2.0
PRODID:-//Plone.org//NONSGML plone.app.event//EN
X-WR-TIMEZONE:Europe/Vienna
BEGIN:VEVENT
SUMMARY:Graduiertenkonferenz 2013|14
DTSTART;TZID=Europe/Vienna:20140122T103000
DTSTAMP:20260423T114158Z
UID:3475a3342e87e4f2d3bfe6ceeb196f54@www.akbild.ac.at
CATEGORIES:Konferenzen
CREATED:20220312T111958Z
LAST-MODIFIED:20240802T102205Z
URL:https://www.akbild.ac.at/de/forschung/veranstaltungen/konferenzen/2014
 /akbild_event.2013-12-20.0967367665
END:VEVENT
BEGIN:VTIMEZONE
TZID:Europe/Vienna
X-LIC-LOCATION:Europe/Vienna
BEGIN:STANDARD
DTSTART:20131027T020000
TZNAME:CET
TZOFFSETFROM:+0200
TZOFFSETTO:+0100
END:STANDARD
END:VTIMEZONE
END:VCALENDAR
