BEGIN:VCALENDAR
VERSION:2.0
PRODID:-//Plone.org//NONSGML plone.app.event//EN
X-WR-TIMEZONE:Europe/Vienna
BEGIN:VEVENT
SUMMARY:Graduiertenkonferenz 2015
DTSTART;TZID=Europe/Vienna:20150617T093000
DTSTAMP:20260425T205645Z
UID:48db7243987d4c6346def4c6a38bf606@www.akbild.ac.at
CATEGORIES:Konferenzen
CREATED:20220312T112007Z
DESCRIPTION:Im Rahmen der Graduiertenkonferenz der Akademie präsentieren 
 und diskutieren Dissertant_innen Ergebnisse ihrer Dissertation. Die Modera
 tionen übernehmen Betreuer_innen aus anderen\, wenngleich verwandten disz
 iplinären Umfeldern. Ziel der Graduiertenkonferenz ist die Sichtbarmachun
 g der Forschungsergebnisse der Promovierenden sowie der Austausch zwischen
  allen Disziplinen und Fachbereichen der Akademie.
LAST-MODIFIED:20240802T102205Z
URL:https://www.akbild.ac.at/de/forschung/veranstaltungen/konferenzen/2015
 /graduiertenkonferenz-2015
END:VEVENT
BEGIN:VTIMEZONE
TZID:Europe/Vienna
X-LIC-LOCATION:Europe/Vienna
BEGIN:DAYLIGHT
DTSTART:20150329T030000
TZNAME:CEST
TZOFFSETFROM:+0100
TZOFFSETTO:+0200
END:DAYLIGHT
END:VTIMEZONE
END:VCALENDAR
