BEGIN:VCALENDAR
VERSION:2.0
PRODID:-//Plone.org//NONSGML plone.app.event//EN
X-WR-TIMEZONE:Europe/Vienna
BEGIN:VEVENT
SUMMARY:Zum universitären Umgang mit dem Plagiat. Definition\, Präventio
 n\, Konsequenzen.
DTSTART;TZID=Europe/Vienna:20150603T130000
DTEND;TZID=Europe/Vienna:20150603T173000
DTSTAMP:20260419T125043Z
UID:08b0245907f3ddb4256c08ba22a2dd74@www.akbild.ac.at
CATEGORIES:Konferenzen
CREATED:20220312T112006Z
LAST-MODIFIED:20240802T102205Z
URL:https://www.akbild.ac.at/de/forschung/veranstaltungen/konferenzen/2015
 /zum-universitaeren-umgang-mit-dem-plagiat.-definition-praevention-konsequ
 enzen
END:VEVENT
BEGIN:VTIMEZONE
TZID:Europe/Vienna
X-LIC-LOCATION:Europe/Vienna
BEGIN:DAYLIGHT
DTSTART:20150329T030000
TZNAME:CEST
TZOFFSETFROM:+0100
TZOFFSETTO:+0200
END:DAYLIGHT
END:VTIMEZONE
END:VCALENDAR
